BEGIN:VCALENDAR
VERSION:2.0
PRODID:-//Kreasphäre Create Your Life - ECPv6.15.20//NONSGML v1.0//EN
CALSCALE:GREGORIAN
METHOD:PUBLISH
X-ORIGINAL-URL:https://andrea-gunkler.de
X-WR-CALDESC:Veranstaltungen für Kreasphäre Create Your Life
REFRESH-INTERVAL;VALUE=DURATION:PT1H
X-Robots-Tag:noindex
X-PUBLISHED-TTL:PT1H
BEGIN:VTIMEZONE
TZID:Europe/Berlin
BEGIN:DAYLIGHT
TZOFFSETFROM:+0100
TZOFFSETTO:+0200
TZNAME:CEST
DTSTART:20250330T010000
END:DAYLIGHT
BEGIN:STANDARD
TZOFFSETFROM:+0200
TZOFFSETTO:+0100
TZNAME:CET
DTSTART:20251026T010000
END:STANDARD
BEGIN:DAYLIGHT
TZOFFSETFROM:+0100
TZOFFSETTO:+0200
TZNAME:CEST
DTSTART:20260329T010000
END:DAYLIGHT
BEGIN:STANDARD
TZOFFSETFROM:+0200
TZOFFSETTO:+0100
TZNAME:CET
DTSTART:20261025T010000
END:STANDARD
BEGIN:DAYLIGHT
TZOFFSETFROM:+0100
TZOFFSETTO:+0200
TZNAME:CEST
DTSTART:20270328T010000
END:DAYLIGHT
BEGIN:STANDARD
TZOFFSETFROM:+0200
TZOFFSETTO:+0100
TZNAME:CET
DTSTART:20271031T010000
END:STANDARD
END:VTIMEZONE
BEGIN:VEVENT
DTSTART;TZID=Europe/Berlin:20261029T080000
DTEND;TZID=Europe/Berlin:20261101T170000
DTSTAMP:20260423T125124
CREATED:20260204T111145Z
LAST-MODIFIED:20260204T111145Z
UID:17203-1793260800-1793552400@andrea-gunkler.de
SUMMARY:Nach Spiekeroog - der Selbstliebe wegen
DESCRIPTION:Yoga – Energiearbeit – Kreativität\nRetreat auf Spiekeroog mit Andrea Gunkler und Miriam Leder \nAlle Infos & Buchung hier \n 
URL:https://andrea-gunkler.de/event/nach-spiekeroog-der-selbstliebe-wegen/
LOCATION:Spiekeroog\, Hotel Inselfriede\, Süderloog 12\, Spiekeroog\, Niedersachsen\, 26474\, Germany
CATEGORIES:Retreats
ATTACH;FMTTYPE=image/jpeg:https://andrea-gunkler.de/wp-content/uploads/2025/12/Spiekeroog-Entwurf-1.jpeg
ORGANIZER;CN="Andrea Gunkler":MAILTO:meinekurse@kreasphaere.de
END:VEVENT
END:VCALENDAR