BEGIN:VCALENDAR
VERSION:2.0
PRODID:-//Kreasphäre Create Your Life - ECPv6.15.20//NONSGML v1.0//EN
CALSCALE:GREGORIAN
METHOD:PUBLISH
X-ORIGINAL-URL:https://andrea-gunkler.de
X-WR-CALDESC:Veranstaltungen für Kreasphäre Create Your Life
REFRESH-INTERVAL;VALUE=DURATION:PT1H
X-Robots-Tag:noindex
X-PUBLISHED-TTL:PT1H
BEGIN:VTIMEZONE
TZID:Europe/Berlin
BEGIN:DAYLIGHT
TZOFFSETFROM:+0100
TZOFFSETTO:+0200
TZNAME:CEST
DTSTART:20250330T010000
END:DAYLIGHT
BEGIN:STANDARD
TZOFFSETFROM:+0200
TZOFFSETTO:+0100
TZNAME:CET
DTSTART:20251026T010000
END:STANDARD
BEGIN:DAYLIGHT
TZOFFSETFROM:+0100
TZOFFSETTO:+0200
TZNAME:CEST
DTSTART:20260329T010000
END:DAYLIGHT
BEGIN:STANDARD
TZOFFSETFROM:+0200
TZOFFSETTO:+0100
TZNAME:CET
DTSTART:20261025T010000
END:STANDARD
BEGIN:DAYLIGHT
TZOFFSETFROM:+0100
TZOFFSETTO:+0200
TZNAME:CEST
DTSTART:20270328T010000
END:DAYLIGHT
BEGIN:STANDARD
TZOFFSETFROM:+0200
TZOFFSETTO:+0100
TZNAME:CET
DTSTART:20271031T010000
END:STANDARD
END:VTIMEZONE
BEGIN:VEVENT
DTSTART;TZID=Europe/Berlin:20260425T093000
DTEND;TZID=Europe/Berlin:20260425T103000
DTSTAMP:20260421T100618
CREATED:20260416T075602Z
LAST-MODIFIED:20260416T115254Z
UID:17284-1777109400-1777113000@andrea-gunkler.de
SUMMARY:Teppichhäkeln
DESCRIPTION:Mach was Schönes …\n… aus alten T-Shirts und Restgarnen\nSamstag\, 25. April 2026\, 9:30 – 10:30 Uhr\nOh weh! Dein Lieblings-T-Shirt ist schon ganz zerschlissen! Und jetzt willst du es wegwerfen? \nHalt! Nicht so schnell! \nWegwerfen muss nicht sein! Aus deinem so geliebten Textil lassen sich tolle Sachen zaubern: Teppiche zum Beispiel\, Übertöpfe oder andere Behältnisse – todschicke Sachen\, die du ebenfalls lieben wirst! \nAlles\, was du dazu an Kenntnissen und Fertigkeiten brauchst\, sind ein paar wenige Häkelmaschen. \nIn diesem Live-Kurs lernst du\n\nwie du aus alten Textilien Stoffbänder herstellst\nwie du diese Stoffbänder ins Häkeln integrierst\nwie du daraus flache Teppiche häkelst\nwie runde Teppiche (oder die Böden von Behältern) entstehen\nwie du mit einem ovalen Teppich (oder einer Schale) beginnst\n\nDiese Materialien brauchst du: \n\nHäkelgarn (gern Restwolle in der Dicke deiner Wahl – ich benutze gern Baumwollgarn)\nHäkelnadel in der entsprechenden Größe (meine Wahl: Größe 4)\nein altes T-Shirt oder Socken oder Küchenhandtuch\, was du hast\nSchere (oder Rollschneider\, Lineal und Schneideunterlage)\n\nDie Veranstaltung dauert ca. eine Stunde (mit ca. 15 Minuten Puffer nach hinten) und bietet ganz viel Platz für deine Fragen. \nPreis: 15 € \nHier kannst du dein Ticket buchen (oder über den Link bei „Webseite“ in der Spalte rechts bzw. unten) \nIch freu mich auf dich! \nPS: Dieser Live-Online-Kurs wird aufgezeichnet zum Immer-wieder-anschauen – oder falls du nicht live dabei sein kannst. \n 
URL:https://andrea-gunkler.de/event/teppichhaekeln/
LOCATION:Online
CATEGORIES:Live online
ATTACH;FMTTYPE=image/jpeg:https://andrea-gunkler.de/wp-content/uploads/2026/04/Teppichhaekeln.jpg
ORGANIZER;CN="Andrea Gunkler":MAILTO:meinekurse@kreasphaere.de
END:VEVENT
BEGIN:VEVENT
DTSTART;TZID=Europe/Berlin:20260501T100000
DTEND;TZID=Europe/Berlin:20260503T170000
DTSTAMP:20260421T100618
CREATED:20260104T121457Z
LAST-MODIFIED:20260110T123623Z
UID:16965-1777629600-1777827600@andrea-gunkler.de
SUMMARY:Naturliebe-Frühlingsmalen in Tätendorf-Eppensen
DESCRIPTION:Mit Antje Gilland und Andrea Gunkler\n1. – 3. Mai 2026\nAlle Informationen & Buchung hier
URL:https://andrea-gunkler.de/event/naturliebe-fruehlingsmalen-in-taetendorf-eppensen/
LOCATION:Obstscheune\, Uelzener Chaussee 4\, Tätendorf-Eppensen\, Niedersachsen\, 29576\, Germany
CATEGORIES:In persona-Workshop
ATTACH;FMTTYPE=image/jpeg:https://andrea-gunkler.de/wp-content/uploads/2025/11/IMG_6094-scaled.jpeg
ORGANIZER;CN="Andrea Gunkler":MAILTO:meinekurse@kreasphaere.de
END:VEVENT
BEGIN:VEVENT
DTSTART;TZID=Europe/Berlin:20260527T100000
DTEND;TZID=Europe/Berlin:20260527T113000
DTSTAMP:20260421T100618
CREATED:20260114T124554Z
LAST-MODIFIED:20260421T074613Z
UID:17074-1779876000-1779881400@andrea-gunkler.de
SUMMARY:Einführung in Gouache
DESCRIPTION:Sie ist samtig\, sie ist matt\, sie ist farbstark – und bietet nahezu unbegrenzte Möglichkeiten: \nGouache\nIn diesem kostenlosen Einführungskurs machst du dich mit den Eigenschaften dieser oft vergessenen Wasserfarbe vertraut. Dabei ist sie unglaublich vielseitig und es macht riesig Spaß\, damit zu malen. \n\nSie ist wasserlöslich wie Aquarell und sie lässt sich auch so vermalen.\nSie deckt wie Acryl und du kannst sie fast genauso schichten.\n\nLerne diese wunderbare Farbsorte kennen – und schon bald wirst du sie genauso lieben wie ich! \n  \nHier buchen\nOnlinekurs live via Zoom \nHol dir den Kurs für 0 € und lass dich entführen in die wunderbare Welt der Gouache. \nDie Bestellbestätigung enthält deinen Zoom-Link! \nUnd wenn du nicht live dabei sein kannst\, melde dich trotzdem an\, du bekommst eine Aufzeichnung – und einen Rabattcode für den im Juni startenden Gouache-Landschafts-Kurs! \n  \nIn diesem Kurs\n\nstelle ich dir die Farben vor und in welchen Varietäten sie daherkommen und\ndemonstriere ich\, auf welchen verschiedenen Malgründen du damit malen kannst und\nwie du die Farben mischst\nzeige ich dir die verschiedenen Malweisen (deckend\, lasierend\, schichtend) und\, wenn noch Zeit ist\,\nvergnügen wir uns damit\, ein Blatt mit Farbspuren zu füllen (Gunkeln mit Gouache)\n\n  \nWenn du direkt mitmalen möchtest\nund noch keine Gouache besitzt\, empfehle ich dir folgende Materialien: \n\nein Skizzenbuch oder ein Blatt Papier (Zeichenkarton oder glattes Aquarellpapier)\nPinsel\, die für Acrylmalerei taugen\nGouache in Tuben in den drei Grundfarben plus Weiß und Schwarz (Produktempfehlungen: Lukas Studio Gouache\, Talens Gouache Extra Fine\, Linel von Lefranc & Bourgeois\, Designer Gouache von Winsor & Newton oder Horadam Gouache von Schmincke – Preise aufsteigend – je günstiger\, desto geringer die Farbbrillanz)\neine Mischpalette und ein Wasserglas\n\n(Alle Links hinter den Farbnamen sind Affiliate-Links. Bei qualifiziertem Kauf verdiene ich eine Provision.) \n  \nIch freu mich jetzt schon darauf\, die Freude an diesen Farben mit dir zu teilen. \nBis dahin! \nDeine Andrea \nCreate your live 🌿
URL:https://andrea-gunkler.de/event/einfuehrung-in-gouache/
LOCATION:Online
CATEGORIES:Live online
ATTACH;FMTTYPE=image/jpeg:https://andrea-gunkler.de/wp-content/uploads/2026/01/Gouache-Einfuehrung.jpeg
ORGANIZER;CN="Andrea Gunkler":MAILTO:meinekurse@kreasphaere.de
END:VEVENT
BEGIN:VEVENT
DTSTART;TZID=Europe/Berlin:20260606T100000
DTEND;TZID=Europe/Berlin:20260607T170000
DTSTAMP:20260421T100618
CREATED:20260114T123312Z
LAST-MODIFIED:20260114T123959Z
UID:17067-1780740000-1780851600@andrea-gunkler.de
SUMMARY:Druckspaß mit der GelliPlate®
DESCRIPTION:Druckspaß mit der GelliPlate®\n6. und 7. Juni 2026 – Kreativ-Erlebnisraum – Oberaula\nJetzt Ticket sichern\n  \nPreis: 159 € pro Person \n\nWir treffen uns im Kreativ-Erlebnisraum in Oberaula zum Druckspaß mit der GelliPlate®. Dabei kannst du die unterschiedlichsten Monoprint-Techniken ausprobieren und nach Herzenslust experimentieren. \nMir geht es regelmäßig so: kaum habe ich die GelliPlate® ausgepackt und angefangen zu drucken\, ist ein halber Tag vorbei\, weil diese Technik einfach süchtig macht und dir ständig die Frage im Kopf herumschwebt: „was passiert\, wenn ich … machen?“ \nDies ist die Gelegenheit\, dein inneres Spielkind herauszulassen und dich deinen kreativen Impulsen hinzugeben. Es gibt keine Vorgaben\, nichts zu erreichen\, das Ergebnis ist immer unwägbar – Perfektion und Kontrolle sind beim Spielen mit der GelliPlate® Fremdwörter. \n\nEs ist alles für dich angerichtet:\n\nGelliPlates® in verschiedenen Größen und Farbwalzen\nunterschiedlichste Papiere\nAcrylfarben\nSchablonen\nStempel\nNaturmaterialien\n“mark making“-Werkzeuge der unterschiedlichsten Art\n\nDu brauchst nur zu kommen und kannst aus dem Vollen schöpfen. \nHinterher gehst du mit einem Stapel einzigartiger Papiere nach Hause\, die du für deinen Zweck verwenden kannst\, ob fürs Beziehen eines Buchs\, Gestalten eines eigenen Art Journals\, als Collagenpapiere\, Geschenkpapier und und und. \nFürs leibliche Wohl tagsüber (Wasser\, Kaffee\, Snacks\, Kekse) ist ebenfalls gesorgt. \nÜbrigens: Wenn du so richtig Feuer gefangen hast mit der Drucktechnik\, kannst du eine GelliPlate® plus Walze vor Ort auch käuflich erwerben. \n  \nDu kümmerst dich um\n\ndeine Anreise und Unterkunft\ndeine Verpflegung vor Ort (mitbringen oder eine der vielfältigen Verköstigungsmöglichkeiten vor Ort nutzen)\ndeine Lieblingsmaterialien\, ohne die du auf keinen Fall sein kannst\n\n\nIch freu mich jetzt schon riesig darauf\, mit dir diesen Druckspaß mit der GelliPlate® zu erleben! \nAndrea aus der Kreasphäre® \n  \nEs gelten die Bedingungen für Storno und Rückgabe von Kreasphäre®-Tickets.
URL:https://andrea-gunkler.de/event/druckspass-mit-der-gelliplate/
LOCATION:Kreativ-Erlebnisraum\, Niederrheinische Str. 6\, Oberaula\, Hessen\, 36280\, Germany
CATEGORIES:In persona-Workshop
ATTACH;FMTTYPE=image/jpeg:https://andrea-gunkler.de/wp-content/uploads/2026/01/GelliPlate-Druckspass.jpeg
ORGANIZER;CN="Andrea Gunkler":MAILTO:meinekurse@kreasphaere.de
END:VEVENT
BEGIN:VEVENT
DTSTART;TZID=Europe/Berlin:20260711T080000
DTEND;TZID=Europe/Berlin:20260712T170000
DTSTAMP:20260421T100618
CREATED:20260124T114642Z
LAST-MODIFIED:20260124T132316Z
UID:17162-1783756800-1783875600@andrea-gunkler.de
SUMMARY:Groß & frei
DESCRIPTION:Malen auf der großen Leinwand\nWenn ich an der Staffelei und im Stehen male\, fühle ich mich wie eine echte Künstlerin! (Andrea Gunkler) \nDein Ticket sichern!\nPreis: 159 € \nPlätze: max. 4 \n\n  \nHast du das kleine Format satt und möchtest endlich mal groß malen\, mit vollem Körpereinsatz\, aus der Bewegung\, wild und frei? \nDann ist dieses Mal-Wochenende genau das Richtige für dich! \nIm Kreativ-Erlebnisraum in Oberaula ist der Platz da\, um dich so richtig auszutoben mit allen Farben und Materialien\, die das Atelier zu bieten hat! Die Leinwand ist dein Experimentierfeld\, dein Sandkasten\, deine Spielwiese\, auf der du all das ausprobieren kannst\, was dir schon so lang vorschwebt. \nEs ist wahr: auf dem großen Format zu malen\, ist viel einfacher als auf einem kleinen! Und mit Acrylfarben lässt sich jederzeit übermalen\, was dir nicht gefällt. \nAn diesem Wochenende erwarten dich \n\njede Menge Tipps und Herangehensweisen\, die weiße Malfläche als Raum für Möglichkeiten zu sehen statt dir davon Angst einjagen zu lassen\neine kleine Gruppe Gleichgesinnter\, die deine Entdeckungen und deine Freude nachempfinden und teilen\nein großes Arsenal an Farben und Pinseln und anderen Werkzeugen zum Ausprobieren und Spielen\nein Raum\, in dem du dich frei entfalten darfst jenseits von Mal-Regeln oder Einschränkungen\nMutmachen zu jeder Zeit\, wann immer du vor einem Schritt zögerst.\n\nDu wirst sehen: groß Malen macht Spaß und verschafft dir ein unbeschreiblich schönes Gefühl von Freiheit! \nSei dabei! \nIm Preis inbegriffen sind \n\n1 große Leinwand\ndie Benutzung der Farben und Werkzeuge im Atelier\nGetränke\, Kaffee\, Snacks\, Kuchen während der Veranstaltung\n\nDu kümmerst dich um \n\nAnreise und Unterbringung (zum Beispiel im gemütlichen Hotel zum Stern gleich nebenan)\nwas du an Materialien verwenden und mitbringen möchtest\nMittagessen (es gibt etliche Bäckereien und Restaurants in wenigen Schritten Entfernung zum Atelier)\n\nLass uns mutig sein!\nIch freu mich jetzt schon darauf\, mit dir zusammen die große Leinwand zu erobern! \nBis dann! \nAndrea \nCreate your life 🌿
URL:https://andrea-gunkler.de/event/gross-frei-1/
LOCATION:Kreativ-Erlebnisraum\, Niederrheinische Str. 6\, Oberaula\, Hessen\, 36280\, Germany
CATEGORIES:In persona-Workshop
ATTACH;FMTTYPE=image/jpeg:https://andrea-gunkler.de/wp-content/uploads/2026/01/Gross-und-frei.jpeg
ORGANIZER;CN="Andrea Gunkler":MAILTO:meinekurse@kreasphaere.de
END:VEVENT
BEGIN:VEVENT
DTSTART;TZID=Europe/Berlin:20260801T100000
DTEND;TZID=Europe/Berlin:20260802T170000
DTSTAMP:20260421T100618
CREATED:20260114T155051Z
LAST-MODIFIED:20260114T161031Z
UID:17096-1785578400-1785690000@andrea-gunkler.de
SUMMARY:Sketch dein Dorf 2026
DESCRIPTION:Oberaula/Hessen\, 1. und 2. August 2026\nHier Ticket sichern!\n  \nPreis: 159 € (für beide Tage)\, 99 € für einen Tag \n\n  \n„Urban Sketching“ ist in aller Munde. Jetzt kommt die beliebte Freizeit-Aktivität auch ins Dorf! \nFachwerkhäuser\, Ackergerätschaften\, Wirtshäuser\, Gassen\, Kirchen und Plätze und natürlich die Natur drumherum – das alles liefert wunderbare Motive\, um sie im Skizzenbuch festzuhalten. Erlebe die Freude des Zeichnens draußen in kreativer Gesellschaft – und das alles ohne viel Lärm oder Abgase! \nDeine Gastgeberinnen\n\nTina Kuhrt – Dozentin und Sketcherin mit langjähriger Erfahrung\nDorit Kostall – Sketching-Enthusiastin mit Online-Shop für Zeichenmaterial\nAnke van Bebber – ebenfalls begeisterte Sketcherin\nAndrea Gunkler – sporadische Sketcherin und Inhaberin des Kreasphäre®Zentrums in Oberaula\n\nOrt und Termin\n\n1. August 2026\, 10 – 16 Uhr\, 2. August 2026\, 10 – 14 Uhr\nTreffpunkt und Stützpunkt: Niederrheinische Straße 6\, 36280 Oberaula/Hessen\n(bei schlechtem Wetter findet die Veranstaltung im Kreasphäre®Zentrum statt)\n\nProgramm\nSamstag \n\nAb 10 Uhr: Begrüßungsrunde und Einteilung in kleine Gruppen\, je nach Interessenslage (Rural Sketching\, mit dem Zeichnen beginnen\, Übungen fürs lockere Sketching\, Perspektive leicht gemacht\, neue Materialien ausprobieren etc.)\nSketching draußen nach Lust und Laune\nca. 13-14 Uhr: Mittagspause im Kreasphäre®Zentrum nach Belieben\nNeuaufteilung der Gruppen und zweite Sketching-Runde\nca 16 Uhr: Zusammenkunft im Kreasphäre®Zentrum mit Austausch und Feedback-Runde\n\nSonntag \n\nAb 10 Uhr: gemeinsamer Start und Bildung neuer Gruppen\nca. 13 Uhr Zusammekunft im Kreasphäre®Zentrum mit Abschlussrunde und Verabschiedung\nca. 14 Uhr: Ende der Veranstaltung\n\nTickets\n\n159 € für beide Tage (99 € für 1 Tag)\nIm Preis inbegriffen: fachliche Anleitung durch die Gastgeberinnen\, Snacks und Getränke tagsüber nach Belieben\n\nBuchung\nDein Ticket kannst du dir direkt über den folgenden Link buchen: \n>> Hier Ticket buchen! <<\nEs gelten die Bedingungen für die Rückgabe von Tickets für Kreasphäre®Events. \n\nÜbernachtungsmöglichkeiten\nIm Ort gibt es ein schönes\, familiengeführtes Hotel mit gutem Frühstück und Spa-Bereich\, das Hotel zum Stern: https://www.hotelzumstern.de. \nDas Hotel stellt uns bis zum 12. Juli 2025 ein Kontingent an Einzelzimmern zur Verfügung. Gib beim Reservieren bitte das Stichwort „Kreasphäre-Treffen“ an. \nAußerdem verfügt Oberaula über 2 Wohnmobilstellplätze. \nWeitere Unterbringungsmöglichkeiten findest du über booking.com oder Airbnb.com \nAnmeldeschluss ist der 20. Juli 2026 \n  \nWas du mitbringen kannst\n\nNeugier auf jeden Fall\neine Sitzgelegenheit für unterwegs (Klapphocker\, Campingstuhl oder Ähnliches)\nSonnenschutz und Kopfbedeckung\ndeine Sketching-Ausstattung für unterwegs\nGetränkeflasche\n\nDie letzten beiden Utensilien kannst du auch im Kreasphäre®Zentrum bekommen. Geringe Mengen an Mal- und Zeichen-Material zum Erwerb habe ich da – und jede Menge zum Ausprobieren. Und Wasser für unterwegs natürlich auch. \nWir freuen uns schon sehr darauf\, den Ort Oberaula malend und zeichnend mit dir zusammen zu erkunden! \nHappy Sketching! \nAndrea aus der Kreasphäre®
URL:https://andrea-gunkler.de/event/sketch-dein-dorf-2026/
LOCATION:Kreativ-Erlebnisraum\, Niederrheinische Str. 6\, Oberaula\, Hessen\, 36280\, Germany
CATEGORIES:In persona-Workshop
ATTACH;FMTTYPE=image/jpeg:https://andrea-gunkler.de/wp-content/uploads/2026/01/Sketch-dein-Dorf-2026.jpeg
ORGANIZER;CN="Andrea Gunkler":MAILTO:meinekurse@kreasphaere.de
END:VEVENT
BEGIN:VEVENT
DTSTART;VALUE=DATE:20260821
DTEND;VALUE=DATE:20260824
DTSTAMP:20260421T100618
CREATED:20260104T165047Z
LAST-MODIFIED:20260105T114858Z
UID:16974-1787270400-1787529599@andrea-gunkler.de
SUMMARY:BUNT-Malretreat in Arnsberg
DESCRIPTION:Mit Corinna Ortmann und Andrea Gunkler \nWir sind wieder im Sauerland! 21. – 23. August 2026 \nBUNT-Malretreat in Arnsberg
URL:https://andrea-gunkler.de/event/bunt-malretreat-in-arnsberg/
LOCATION:Country Lodge\, Arnsberg\, Dickenbruch 130\, Arnsberg\, Nordrhein-Westfalen\, 59821\, Germany
CATEGORIES:In persona-Workshop
ATTACH;FMTTYPE=image/jpeg:https://andrea-gunkler.de/wp-content/uploads/2026/01/IMG_7480-scaled.jpeg
ORGANIZER;CN="Andrea Gunkler":MAILTO:meinekurse@kreasphaere.de
END:VEVENT
BEGIN:VEVENT
DTSTART;TZID=Europe/Berlin:20261029T080000
DTEND;TZID=Europe/Berlin:20261101T170000
DTSTAMP:20260421T100618
CREATED:20260204T111145Z
LAST-MODIFIED:20260204T111145Z
UID:17203-1793260800-1793552400@andrea-gunkler.de
SUMMARY:Nach Spiekeroog - der Selbstliebe wegen
DESCRIPTION:Yoga – Energiearbeit – Kreativität\nRetreat auf Spiekeroog mit Andrea Gunkler und Miriam Leder \nAlle Infos & Buchung hier \n 
URL:https://andrea-gunkler.de/event/nach-spiekeroog-der-selbstliebe-wegen/
LOCATION:Spiekeroog\, Hotel Inselfriede\, Süderloog 12\, Spiekeroog\, Niedersachsen\, 26474\, Germany
CATEGORIES:Retreats
ATTACH;FMTTYPE=image/jpeg:https://andrea-gunkler.de/wp-content/uploads/2025/12/Spiekeroog-Entwurf-1.jpeg
ORGANIZER;CN="Andrea Gunkler":MAILTO:meinekurse@kreasphaere.de
END:VEVENT
BEGIN:VEVENT
DTSTART;TZID=Europe/Berlin:20261128T100000
DTEND;TZID=Europe/Berlin:20261129T170000
DTSTAMP:20260421T100618
CREATED:20260110T111029Z
LAST-MODIFIED:20260416T075214Z
UID:17023-1795860000-1795971600@andrea-gunkler.de
SUMMARY:Krafttier-Malflow
DESCRIPTION:Entwickle dein neues Selbstbild\n… und male es als Krafttier groß auf die Leinwand!\n28. und 29. November 2026 – Oberaula\, Kreativ-Erlebnisraum\nJetzt Ticket sichern\nPreis: 450 € pro Person\n\nWelche Stärken und Fähigkeiten möchtest du in dir verstärken?\nWelches Bild hast du von dir selbst? Und gibt es Aspekte davon\, die du gern verändern möchtest – für mehr Selbstbewusstsein\, Selbstvertrauen und Souveränität? \nIn diesem Wochenend-Retreat verbindest du dich intensiv mit diesen Stärken\, Eigenschaften und Fähigkeiten der Frau\, die du sein willst\, findest Symbole dafür und ein Krafttier und gestaltest damit ein großes Bild voller Energie und Ausstrahlung! \nKrafttiere haben wertvolle Botschaften für uns. Sie können uns in allen Lebenslagen stärken und uns neue Energie geben. \nStell dir vor\, du hättest DEIN persönliches Krafttier als großes Bild an deiner Wand hängen\, von dir geschaffen\, und jedes Mal\, wenn du es siehst\, spürtest du die Energie\, die du beim Erschaffen gefühlt hast? Sie strahlt weiter\, Tag für Tag – und Tag für Tag wirst du dich wieder damit verbinden können\, wann immer du dein Bild anschaust. \nAußerdem macht es unheimlich Spaß\, auf dem großen Format mit Acrylfarben und anderen Medien zu malen und schließlich ein inspirierendes Geschöpf darauf entstehen zu lassen. Gleichzeitig genießt du die großartige Energie\, die immer dann entsteht\, wenn mehrere Menschen sich am selben Ort treffen und sich der gleichen Sache widmen. \nInhalt des Retreats\n\nSamstag (11 – 17 Uhr)\nNach dem Ankommen und Kennenlernen schwingen wir uns in einer geführten Meditation auf den Ort\, die Mitmalerinnen und das Thema ein.\nFormuliere deine Intention für das Wochenende und tauche am Vormittag ein ins kreative Spiel mit Farben und Materialien deiner Wahl.\nJournaling\, Malen und Recherchieren wechseln sich an diesem Tag immer wieder ab. Du findest Symbole für deine Eigenschaften und dein Krafttier und gestaltest bereits die ersten Schichten auf der großen Leinwand.\nSonntag (10 – 16 Uhr)\nHeute ist der Tag\, an dem dein Krafttier das Licht der Leinwand erblickt. Nach einer geführten Meditation beschäftigen wir uns den ganzen Tag über\, das Tier mit Farben entstehen zu lassen. Hier ist die Zeit und der Raum dafür\, dich ganz in den Malflow sinken zu lassen. Spüren\, Bewegung\, Malen\, Rausgehen\, Schreiben\, Reflektieren. Alles hat hier seinen Platz.\n\nNach diesem Retreat nimmst du ein großformatiges Bild mit nach Hause\, das dich allein schon beim Anschauen in die großartige Energie dieses Wochenendes zurückversetzt und dich das ganze Jahr über mit den Eigenschaften\, Stärken und Fähigkeiten verbindet\, die du darin verankert hast. \nPreis für das Wochenend-Retreat: 450 €\n(Maximal 6 Teilnehmende) \nIm Preis enthalten:\n\nMaterialien (Leinwände\, Malgründe\, Farben etc.)\nGetränke und Snacks\n\nDu kümmerst dich um\n\nAnreise und Unterkunft\nMittagessen\nMaterialien\, auf die du nicht verzichten möchtest\n\n  \nIch freue mich riesig darauf\, dieses Wochenend-Retreat mit dir zu gestalten! \nBis dann! \nDeine Andrea \n  \nEs gelten die Bedingungen für Storno und Rückgabe von Kreasphäre®-Tickets.
URL:https://andrea-gunkler.de/event/krafttier-malflow-3/
LOCATION:Kreativ-Erlebnisraum\, Niederrheinische Str. 6\, Oberaula\, Hessen\, 36280\, Germany
CATEGORIES:Retreats
ATTACH;FMTTYPE=image/jpeg:https://andrea-gunkler.de/wp-content/uploads/2026/01/Krafttier-Malflow.jpeg
ORGANIZER;CN="Andrea Gunkler":MAILTO:meinekurse@kreasphaere.de
END:VEVENT
END:VCALENDAR